BEGIN:VCALENDAR
VERSION:2.0
PRODID:-//eventon.com NONSGML v1.0//EN
CALSCALE:GREGORIAN
METHOD:PUBLISH
BEGIN:VEVENT
UID:69e7348242d72
DTSTAMP:20260421T082538Z
DTSTART:20260202T073000Z
DTEND:20260202T083000Z
LOCATION:Stiftelsen Polaria Hjalmar Johansensgate 12
SUMMARY:08:30 Arctic Yoga
DESCRIPTION:En helt unik arktisk opplevelse! Arctic Yoga på Polaria tar de
 g med inn i en undervannsatmosfære\,  der rolig yoga møter den stille mag
 ien i Arktis. Tidspunkt: Mandager kl. 08:30 – 09:30 Oppmøte i reseps
 jonen senest: 08:20 Varighet: 60 minutter Språk: Engelsk Les mer og book H
 ER\nhttps://polaria.no/events/arctic-yoga-polaria/
URL:https://polaria.no/events/arctic-yoga-polaria/
END:VEVENT
END:VCALENDAR