BEGIN:VCALENDAR
VERSION:2.0
PRODID:-//eventon.com NONSGML v1.0//EN
CALSCALE:GREGORIAN
METHOD:PUBLISH
BEGIN:VEVENT
UID:69e4de730454a
DTSTAMP:20260419T135355Z
DTSTART:20260315T123000Z
DTEND:20260315T131500Z
LOCATION:Stiftelsen Polaria Hjalmar Johansensgate 12
SUMMARY:13:30 Guidet Omvisning av Polaria
DESCRIPTION:Bli med pÃ¥ vÃ¥r guidede tur av Polaria\,  gjennom vÃ¥re vitens
 kapsbaserte utstillinger og arktiske akvarium. Tidspunkt:Â Hver dag kl. 13:
 30 &#8211; 14:15 OppmÃ¸te i resepsjonen kl 13:15 Varighet: 45 minutter SprÃ
 ¥k: Engelsk Les mer og book HER\nhttps://polaria.no/events/bli-en-seleksper
 t/var/ri-43.l-L1
URL:https://polaria.no/events/bli-en-selekspert/var/ri-43.l-L1
END:VEVENT
END:VCALENDAR