BEGIN:VCALENDAR
VERSION:2.0
PRODID:-//eventon.com NONSGML v1.0//EN
CALSCALE:GREGORIAN
METHOD:PUBLISH
BEGIN:VEVENT
UID:69e73f540ed3b
DTSTAMP:20260421T091148Z
DTSTART:20251110T104000Z
DTEND:20251110T105100Z
LOCATION:Stiftelsen Polaria Hjalmar Johansensgate 12
SUMMARY:11:40 Kinovisning: Behind the scenes
DESCRIPTION:Â«Behind the ScenesÂ» tar deg med bak kulissene pÃ¥ Polaria. LÃ
 ¦r hvordan vi arbeider med dyrene vÃ¥re\,  dykk under vann med bÃ¥de steinb
 it og sel\,  og opplev vÃ¥re arktiske arter pÃ¥ nÃ¦rt hold. Filmen ble fina
 nsiert med midler fra Innovasjon Norge\,  og er produsert av Prosit Product
 ions.\nhttps://polaria.no/events/kinovisning-behind-the-scenes/
URL:https://polaria.no/events/kinovisning-behind-the-scenes/
END:VEVENT
END:VCALENDAR